BEGIN:VCALENDAR
VERSION:2.0
PRODID:-//eventon.com NONSGML v1.0//EN
CALSCALE:GREGORIAN
METHOD:PUBLISH
BEGIN:VEVENT
UID:69e327168eff2
DTSTAMP:20260418T063918Z
DTSTART:20190527T190000Z
DTEND:20190527T210000Z
LOCATION:Calm and Connected 19B Erade Drive\,  Piara Waters
SUMMARY:Sensory Processing
DESCRIPTION:This face to face workshop provides families and supports with 
 information on sensory processing presented by an Occupational Therapist  
 from Calm and Connected.The workshop will explain what sensory processing i
 s and how it affects our day to day life. We will then go through what can 
 happen when a child[..]\nhttps://calmandconnected.com.au/events-2/sensory-p
 rocessing/
URL:https://calmandconnected.com.au/events-2/sensory-processing/
END:VEVENT
END:VCALENDAR