BEGIN:VCALENDAR
VERSION:2.0
PRODID:-//eventon.com NONSGML v1.0//EN
CALSCALE:GREGORIAN
METHOD:PUBLISH
BEGIN:VEVENT
UID:69e736a258340
DTSTAMP:20260421T083442Z
DTSTART:20181011T193000Z
DTEND:20181011T203000Z
LOCATION:Online Webinar
SUMMARY:Parent Workshop; Social Skills
DESCRIPTION:Parent Workshop; Social Skills\nhttps://calmandconnected.com.au
 /events-2/parent-workshop-social-skills/
URL:https://calmandconnected.com.au/events-2/parent-workshop-social-skills/
END:VEVENT
END:VCALENDAR